BEGIN:VCALENDAR
METHOD:PUBLISH
VERSION:2.0
PRODID:-//Eventilla iCal Syndication//NONSGML Liana//EN
BEGIN:VEVENT
UID:Gw4RW@eventilla.com
DTSTAMP:20260326T123000Z
DTSTART:20260326T123000Z
DTEND:20260326T150000Z
SUMMARY:Satelliitti Round Table: Lauri Ratia
DESCRIPTION:Satelliitti Round Table on täysin uusi tapahtumakonsepti\, joka tuo Perheyritysten liiton jäsenet ja kumppanit yhteen samanaikaisesti eri puolilla Suomea. Kyseessä on valtakunnallinen hybriditapahtuma\, jossa yhdistyvät yhteinen pääpuheenvuoro\, paikallinen keskustelu ja verkostoituminen.\nTilaisuuden pääpuhujana toimii Lauri Ratia\, joka tarkastelee puheenvuorossaan omistajuutta ja hallitustyötä tilanteissa\, joissa paine on kova ja päätökset vaikeita. Teemat nousevat erityisesti omistajien näkökulmasta ja käsittelevät muun muassa:\n\nmiten hallitus ja omistajat toimivat paineen alla\nmitä omistajuuden vastuu tarkoittaa käytännössä vaikeissa päätöksissä\nmiksi avoin ja luottamuksellinen vuoropuhelu omistajien ja hallituksen puheenjohtajan välillä on ratkaisevaa haastavissa tilanteissa\n\nPuheenvuoro tarjoaa tunnistettavia esimerkkejä ja käytännönläheisiä näkökulmia suomalaisille perheyrittäjille ja aktiivisille omistajille\, joille omistajuus on pitkäjänteistä ja usein myös henkilökohtaista.\nMikä on Satelliitti Round Table?\nSatelliitti Round Table -konseptissa pääpuheenvuoro pidetään Helsingissä Perheyritysten liiton tiloissa ja striimataan samanaikaisesti useille paikkakunnille ympäri Suomea. Näitä paikallisia kokoontumisia kutsutaan satelliiteiksi.\nSatelliiteissa alueen jäsenet kokoontuvat PL:n kumppaneiden toimitiloihin\, joissa seurataan yhteistä puheenvuoroa\, jonka jälkeen on mahdollisuus esittää kysymyksiä Ratialle ja virittää keskustelua aiheeseen liittyen. Iiltapäivän ohjelmaan kuuluu myös verkostoitumista. \nTämän uuden konseptin tavoitteena on yhdistää valtakunnallinen sisältö ja paikallinen kohtaaminen - matalalla kynnyksellä ja lähellä jäseniä.\nYhteistyössä strategisten kumppaneiden kanssa\nTapahtuma toteutetaan yhteistyössä Perheyritysten liiton strategisten kumppaneiden kanssa. PL:n kumppanit toimivat satelliittien isäntinä ja tarjoavat toimitilansa kokoontumispaikoiksi eri puolilla Suomea. HUOM! Osa toimipisteistä on peruttu\, mutta niihin ilmoittautuneet ovat saaneet etäyhteyslinkin osallistumista varten. On mahdollista myös vaihtaa osallistuminen toteutuvaan Satelliittipisteeseen. Katso listaus alta. \nMukana olevia kumppaneita ja paikkakuntia ovat:\nPwC:n isännöimät Satelliitit: - Tampere Kalevantie 2\, 33100 TampereVieraita vastaanottamassa: Anna-Mari Riihimäki ja Sanna Pyylampi-Vaismaa- Kuopio Viestikatu 7\, 70600 KuopioVieraita vastaanottamassa: Jari Lappalainen ja Mikko Oravainen- Seinäjoki Tiedekatu 2\, 60320 SeinäjokiVieraita vastaanottamassa: Tero Malmivaara ja Mika Rantanen\nOP Pohjolan isännöimät Satelliitit: - Turku Villa Leppäniemi\, Ruissalon puistotie 85\, 20100 TurkuVieraita vastaanottamassa: Sami Peura\, Gitta Lang\, Jussi Korpela- Jyväskylä Kauppakatu 22\, 40100 JyväskyläVieraita vastaanottamassa: Jussi Laakkonen- Pori Mikonkatu 4C\, 28100 PoriVieraita vastaanottamassa: Vesa Rosendahl- Rovaniemi\, Koskikatu 12\, 4 krs\, 96200 Rovaniemi (peruttu)- Lappeenranta Kirkkokatu 9\, 53100 Lappeenranta (peruttu)- Lahti Aleksanterinkatu 20\, 15140 Lahti (peruttu)\nFennian isännöimät Satelliitit: - Oulu Kauppurienkatu 8 A\, 90100 Oulu\, 2. kerros- Vaasa Kauppapuistikko 15\, 65100 Vaasa (peruttu)- Joensuu Torikatu 21 C\, 80100 Joensuu (peruttu)Huom! Mikäli Satelliittipisteen tapahtumaan on ilmoittautunut alle 5 osallistujaa\, päätetään toteutuksesta tapauskohtaisesti.
LOCATION:PL toimisto Helsingissä ja kumppaneiden tilat eri puolilla
 Suomea
URL:http://tapahtumat.perheyritys.fi/event/Gw4RW
END:VEVENT
END:VCALENDAR
